BEGIN:VCALENDAR
VERSION:2.0
PRODID:spatie/icalendar-generator
DESCRIPTION:Veranstaltungen von Stiftung &amp;quot\;Zugang für alle&amp;quot\;
X-WR-CALDESC:Veranstaltungen von Stiftung &amp;quot\;Zugang für alle&amp;quot\;
REFRESH-INTERVAL;VALUE=DURATION:PT1440M
X-PUBLISHED-TTL:PT1440M
BEGIN:VTIMEZONE
TZID:Europe/Zurich
BEGIN:DAYLIGHT
DTSTART:20250330T020000Z
TZOFFSETFROM:+0100
TZOFFSETTO:+0200
END:DAYLIGHT
BEGIN:STANDARD
DTSTART:20251026T030000Z
TZOFFSETFROM:+0200
TZOFFSETTO:+0100
END:STANDARD
BEGIN:DAYLIGHT
DTSTART:20260329T020000Z
TZOFFSETFROM:+0100
TZOFFSETTO:+0200
END:DAYLIGHT
END:VTIMEZONE
BEGIN:VTIMEZONE
TZID:UTC
BEGIN:STANDARD
DTSTART:20250724T134208Z
TZOFFSETFROM:+0000
TZOFFSETTO:+0000
END:STANDARD
END:VTIMEZONE
BEGIN:VEVENT
UID:53-28
DTSTAMP:20260420T134208Z
SUMMARY:Barrierefreie Dokumente aus Adobe InDesign
LOCATION:
ORGANIZER;CN=Thinh-Lay Wonesky:MAILTO:thinh-lay.wonesky@access-for-all.ch
DTSTART;TZID=Europe/Zurich:20251007T143000
DTEND;TZID=Europe/Zurich:20251007T170000
X-ALT-DESC;FMTTYPE=TEXT/HTML:<p>In diesem Online-Kurs lernen Sie\, wie Sie 
 Ihr InDesign-Dokument vorbereiten\, um daraus ein barrierefreies PDF zu ex
 portieren.</p>\n
CATEGORIES:Online-Kurs
URL;VALUE=URI:https://access-for-all.ch/mc-events/barrierefreie-dokumente-a
 us-adobe-indesign-2/
METHOD:PUBLISH
END:VEVENT
END:VCALENDAR